BEGIN:VCALENDAR
VERSION:2.0
PRODID:-//North Nibley Parish Council//Meeting Calendar//EN
CALSCALE:GREGORIAN
METHOD:PUBLISH
BEGIN:VEVENT
UID:71038-20250520@northnibleyparishcouncil.gov.uk
DTSTAMP:20260424T082514Z
DTSTART;VALUE=DATE:20250520
DTEND;VALUE=DATE:20250521
SUMMARY:2025 Annual Parish Meeting
DESCRIPTION:Annual Parish Meeting\nView details: https://northnibleyparishcouncil.gov.uk/meetings/2025-annual-parish-meeting/
URL:https://northnibleyparishcouncil.gov.uk/meetings/2025-annual-parish-meeting/
END:VEVENT
END:VCALENDAR
