BEGIN:VCALENDAR
VERSION:2.0
PRODID:-//North Nibley Parish Council//Meeting Calendar//EN
CALSCALE:GREGORIAN
METHOD:PUBLISH
BEGIN:VEVENT
UID:71127-20260603@northnibleyparishcouncil.gov.uk
DTSTAMP:20260423T103808Z
DTSTART;VALUE=DATE:20260603
DTEND;VALUE=DATE:20260604
SUMMARY:June 2026
DESCRIPTION:Full Council Meeting\nView details: https://northnibleyparishcouncil.gov.uk/meetings/june-2026/
URL:https://northnibleyparishcouncil.gov.uk/meetings/june-2026/
END:VEVENT
END:VCALENDAR
