BEGIN:VCALENDAR
VERSION:2.0
PRODID:-//North Nibley Parish Council//Meeting Calendar//EN
CALSCALE:GREGORIAN
METHOD:PUBLISH
BEGIN:VEVENT
UID:71131-20261104@northnibleyparishcouncil.gov.uk
DTSTAMP:20260425T103040Z
DTSTART;VALUE=DATE:20261104
DTEND;VALUE=DATE:20261105
SUMMARY:November 2026
DESCRIPTION:Full Council Meeting\nView details: https://northnibleyparishcouncil.gov.uk/meetings/november-2026/
URL:https://northnibleyparishcouncil.gov.uk/meetings/november-2026/
END:VEVENT
END:VCALENDAR
